BEGIN:VCALENDAR
VERSION:2.0
PRODID:-//CEEI Elche//EmprenemJunts//ES
BEGIN:VEVENT
UID:Evento_8835
DTSTAMP:20150402T105501Z
DTSTART:20150521T080000Z
DTEND:20150521T110000Z
SUMMARY:Código Emprendedor || Taller 5: Lo que nadie te dijo que podías hacer con tus redes sociales
DESCRIPTION:Código Emprendedor Ayuntamiento de Elche
LOCATION:Elche
URL:https://ceeielche.emprenemjunts.es/?op=14&n=8835
END:VEVENT
END:VCALENDAR
