BEGIN:VCALENDAR
VERSION:2.0
PRODID:-//CEEI Valencia//EmprenemJunts//ES
BEGIN:VEVENT
UID:Evento_8371
DTSTAMP:20150109T105600Z
DTSTART:20150114T180000Z
DTEND:20150114T190000Z
SUMMARY:Conferencia \"El cerebro del líder\" 
DESCRIPTION:Impartida por Álvaro Pascual-Leone y organizada por la Cátedra de Cultura Empresarial de la Universitat de València
LOCATION:Valencia
URL:https://ceeivalencia.emprenemjunts.es/?op=14&n=8371
END:VEVENT
END:VCALENDAR
