BEGIN:VCALENDAR
VERSION:2.0
PRODID:-//CEEI Alcoy//EmprenemJunts//ES
BEGIN:VEVENT
UID:Evento_835
DTSTAMP:20091203T150000Z
DTSTART:20091203T150000Z
DTEND:20091203T190000Z
SUMMARY:Café-trabajo \"Creación de oportunidades de negocios en las TIC
DESCRIPTION:
LOCATION:46002 Valencia
URL:https://ceeialcoi.emprenemjunts.es/?op=14&n=835
END:VEVENT
END:VCALENDAR
