BEGIN:VCALENDAR
VERSION:2.0
PRODID:-//Emprenemjunts//EmprenemJunts//ES
BEGIN:VEVENT
UID:Evento_7889
DTSTAMP:20141020T095400Z
DTSTART:20141106T093000Z
DTEND:20141106T130000Z
SUMMARY:EuroI+Deas 2014
DESCRIPTION:H2020: Oportunidades Europeas para las PYMES
LOCATION:Paterna (Valencia)
URL:https://www.emprenemjunts.es/?op=14&n=7889
END:VEVENT
END:VCALENDAR
