BEGIN:VCALENDAR
VERSION:2.0
PRODID:-//CEEI Castellón//EmprenemJunts//ES
BEGIN:VEVENT
UID:Evento_7634
DTSTAMP:20140922T162400Z
DTSTART:20141029T110000Z
DTEND:20141029T130000Z
SUMMARY:Taller E+: Ideas y creatividad. IES Llombai, Burriana
DESCRIPTION:Taller de creatividad y generaciÃ³n de ideas, en colaboraciÃ³n con el IES Llombai
LOCATION:Burriana
URL:https://ceeicastellon.emprenemjunts.es/?op=14&n=7634
END:VEVENT
END:VCALENDAR
