BEGIN:VCALENDAR
VERSION:2.0
PRODID:-//CEEI Castellón//EmprenemJunts//ES
BEGIN:VEVENT
UID:Evento_761
DTSTAMP:20091109T150000Z
DTSTART:20091109T150000Z
DTEND:20091111T190000Z
SUMMARY:Workshop \" GestiÃ³n de Proyectos\" 
DESCRIPTION:
LOCATION:CastellÃ³n
URL:https://ceeicastellon.emprenemjunts.es/?op=14&n=761
END:VEVENT
END:VCALENDAR
