BEGIN:VCALENDAR
VERSION:2.0
PRODID:-//CEEI Valencia//EmprenemJunts//ES
BEGIN:VEVENT
UID:Evento_7554
DTSTAMP:20140905T115100Z
DTSTART:20140930T074500Z
DTEND:20140930T114500Z
SUMMARY:Jornada: Eficiencia Energética para Municipios
DESCRIPTION:Enmarcada dentro del ciclo de sesiones formativas del proyecto europeo MER
LOCATION:Valencia
URL:https://ceeivalencia.emprenemjunts.es/?op=14&n=7554
END:VEVENT
END:VCALENDAR
