BEGIN:VCALENDAR
VERSION:2.0
PRODID:-//Internacional//EmprenemJunts//ES
BEGIN:VEVENT
UID:Evento_7394
DTSTAMP:20140624T094000Z
DTSTART:20141110T230000Z
DTEND:20141121T230000Z
SUMMARY:Misión Comercial Chile y Perú

DESCRIPTION:Misiones Comerciales Cámara Valencia
LOCATION:Chile y Perú
URL:https://internacional.emprenemjunts.es/?op=14&n=7394
END:VEVENT
END:VCALENDAR
