BEGIN:VCALENDAR
VERSION:2.0
PRODID:-//CEEI Alcoy//EmprenemJunts//ES
BEGIN:VEVENT
UID:Evento_7339
DTSTAMP:20140616T105400Z
DTSTART:20140630T090000Z
DTEND:20140630T100000Z
SUMMARY:Horizonte 2020 e instrumentos públicos de financiación 
DESCRIPTION:
LOCATION:03801 Alcoy
URL:https://ceeialcoi.emprenemjunts.es/?op=14&n=7339
END:VEVENT
END:VCALENDAR
