BEGIN:VCALENDAR
VERSION:2.0
PRODID:-//CEEI Alcoy//EmprenemJunts//ES
BEGIN:VEVENT
UID:Evento_7336
DTSTAMP:20140616T084314Z
DTSTART:20140630T073000Z
DTEND:20140630T113000Z
SUMMARY:Alternativas de financiación para proyectos innovadores
DESCRIPTION:10º Foro de Financiación de la Innovación
LOCATION:Alcoi/Alcoy (Alicante)
URL:https://ceeialcoi.emprenemjunts.es/?op=14&n=7336
END:VEVENT
END:VCALENDAR
