BEGIN:VCALENDAR
VERSION:2.0
PRODID:-//Emprenemjunts//EmprenemJunts//ES
BEGIN:VEVENT
UID:Evento_7296
DTSTAMP:20140609T055800Z
DTSTART:20141015T140000Z
DTEND:20141023T180000Z
SUMMARY:100 ideas prácticas para mejorar los resultados comerciales
DESCRIPTION:
LOCATION:Parque Tecnológico de Valencia
URL:https://www.emprenemjunts.es/?op=14&n=7296
END:VEVENT
END:VCALENDAR
