BEGIN:VCALENDAR
VERSION:2.0
PRODID:-//CEEI Alcoy//EmprenemJunts//ES
BEGIN:VEVENT
UID:Evento_7259
DTSTAMP:20140530T091100Z
DTSTART:20140619T100000Z
DTEND:20140619T110000Z
SUMMARY:Presenta tu empresa: Cuéntalo y comparte
DESCRIPTION:Presenta en un minuto tu producto/servicio/empresa, promociónate gratis!!
LOCATION:Benidorm
URL:https://ceeialcoi.emprenemjunts.es/?op=14&n=7259
END:VEVENT
END:VCALENDAR
