BEGIN:VCALENDAR
VERSION:2.0
PRODID:-//CEEI Alcoy//EmprenemJunts//ES
BEGIN:VEVENT
UID:Evento_7257
DTSTAMP:20140530T090200Z
DTSTART:20140619T081500Z
DTEND:20140619T090000Z
SUMMARY:Taller 2. Emprender en el sector del turismo
DESCRIPTION:Tendencias, financiación y otras herramientas
LOCATION:Benidorm
URL:https://ceeialcoi.emprenemjunts.es/?op=14&n=7257
END:VEVENT
END:VCALENDAR
