BEGIN:VCALENDAR
VERSION:2.0
PRODID:-//CEEI Alcoy//EmprenemJunts//ES
BEGIN:VEVENT
UID:Evento_7218
DTSTAMP:20140526T122847Z
DTSTART:20140619T070000Z
DTEND:20140619T120000Z
SUMMARY:Enrédate Benidorm 2014
DESCRIPTION:Enredados, listos ya!
Experiencias, oportunidades, sinergias, colaboración, contactos...
LOCATION:Benidorm (Alicante)
URL:https://ceeialcoi.emprenemjunts.es/?op=14&n=7218
END:VEVENT
END:VCALENDAR
