BEGIN:VCALENDAR
VERSION:2.0
PRODID:-//CEEI Castellón//EmprenemJunts//ES
BEGIN:VEVENT
UID:Evento_7191
DTSTAMP:20140521T110800Z
DTSTART:20140611T143000Z
DTEND:20140611T163000Z
SUMMARY:SesiÃ³n informativa sobre herramientas para la creaciÃ³n de empresas
DESCRIPTION:Taller sobre herramientas para la creaciÃ³n de empresas y motivaciÃ³n empresarial
LOCATION:Castellon
URL:https://ceeicastellon.emprenemjunts.es/?op=14&n=7191
END:VEVENT
END:VCALENDAR
