BEGIN:VCALENDAR
VERSION:2.0
PRODID:-//CEEI Castellón//EmprenemJunts//ES
BEGIN:VEVENT
UID:Evento_7184
DTSTAMP:20140521T103200Z
DTSTART:20140602T143000Z
DTEND:20140602T163000Z
SUMMARY:Taller E+: Modelo de negocio y plan de empresa
DESCRIPTION:Taller sobre modelos de negocio y cÃ³mo desarrollar un Plan de Empresa
LOCATION:Castellon
URL:https://ceeicastellon.emprenemjunts.es/?op=14&n=7184
END:VEVENT
END:VCALENDAR
