BEGIN:VCALENDAR
VERSION:2.0
PRODID:-//CEEI Alcoy//EmprenemJunts//ES
BEGIN:VEVENT
UID:Evento_7039
DTSTAMP:20140423T121100Z
DTSTART:20140529T103000Z
DTEND:20140529T114500Z
SUMMARY:Networking express: Tu oportunidad empresarial en 2 minutos.
DESCRIPTION:
LOCATION:03801 Alcoy
URL:https://ceeialcoi.emprenemjunts.es/?op=14&n=7039
END:VEVENT
END:VCALENDAR
