BEGIN:VCALENDAR
VERSION:2.0
PRODID:-//CEEI Alcoy//EmprenemJunts//ES
BEGIN:VEVENT
UID:Evento_600
DTSTAMP:20091006T163000Z
DTSTART:20091006T163000Z
DTEND:20091006T183000Z
SUMMARY:Jornada: Coaching Ejecutivo, una herramienta de éxito ante la incertidumbre
DESCRIPTION:
LOCATION:Alcoy
URL:https://ceeialcoi.emprenemjunts.es/?op=14&n=600
END:VEVENT
END:VCALENDAR
