BEGIN:VCALENDAR
VERSION:2.0
PRODID:-//CEEI Alcoy//EmprenemJunts//ES
BEGIN:VEVENT
UID:Evento_599
DTSTAMP:20091007T090000Z
DTSTART:20091007T090000Z
DTEND:20091007T120000Z
SUMMARY:Presentación del Estudio de Vocación Emprendedora 2009
DESCRIPTION:
LOCATION:03801 Alcoy
URL:https://ceeialcoi.emprenemjunts.es/?op=14&n=599
END:VEVENT
END:VCALENDAR
