BEGIN:VCALENDAR
VERSION:2.0
PRODID:-//CEEI Valencia//EmprenemJunts//ES
BEGIN:VEVENT
UID:Evento_26613
DTSTAMP:20260421T154718Z
DTSTART:20260610T073000Z
DTEND:20260610T093000Z
SUMMARY:Cómo usar el neuromarketing para vender más y mejor - Gandía
DESCRIPTION:Encuentro SOMMOS connecta 2026 | Pablo Ferreiros | Entiende como vender con emociones
LOCATION:Gandia (Valencia)
URL:https://ceeivalencia.emprenemjunts.es/?op=14&n=26613
GEO:38.964405;-0.181937
END:VEVENT
END:VCALENDAR
