BEGIN:VCALENDAR
VERSION:2.0
PRODID:-//CEEI Alcoy//EmprenemJunts//ES
BEGIN:VEVENT
UID:Evento_25660
DTSTAMP:20251105T085620Z
DTSTART:20251113T073000Z
DTEND:20251113T090000Z
SUMMARY:Jornada Global CV: Apertura de nuevos mercados internacionales
DESCRIPTION:El 13 de noviembre en Alcoy
LOCATION:Alcoi/Alcoy (Alicante)
URL:https://ceeialcoi.emprenemjunts.es/?op=14&n=25660
GEO:38.697083;-0.474352
END:VEVENT
END:VCALENDAR
