BEGIN:VCALENDAR
VERSION:2.0
PRODID:-//CEEI Valencia//EmprenemJunts//ES
BEGIN:VEVENT
UID:Evento_25648
DTSTAMP:20251103T110618Z
DTSTART:20260311T000000Z
DTEND:20260312T010000Z
SUMMARY:FORINVEST, el gran evento para conocer los retos empresariales
DESCRIPTION:Tu marca merece estar en Forinvest 2026
LOCATION:Valencia (Valencia)
URL:https://ceeivalencia.emprenemjunts.es/?op=14&n=25648
GEO:39.509243;-0.426882
END:VEVENT
END:VCALENDAR
