BEGIN:VCALENDAR
VERSION:2.0
PRODID:-//CEEI Elche//EmprenemJunts//ES
BEGIN:VEVENT
UID:Evento_24993
DTSTAMP:20250603T070549Z
DTSTART:20250626T080000Z
DTEND:20250626T090000Z
SUMMARY:VeriFactu: Qué es y cómo prepararse
DESCRIPTION:Acción enmarcada en el Programa de Capacitación de Agentes del Ecosistema de Emprendimiento de la Comunitat Valenciana
LOCATION:
URL:https://ceeielche.emprenemjunts.es/?op=14&n=24993
END:VEVENT
END:VCALENDAR
