BEGIN:VCALENDAR
VERSION:2.0
PRODID:-//CEEI Elche//EmprenemJunts//ES
BEGIN:VEVENT
UID:Evento_24868
DTSTAMP:20250512T134231Z
DTSTART:20250604T080000Z
DTEND:20250604T100000Z
SUMMARY:Cómo mejorar la comunicación y visibilidad de un proyecto empresarial
DESCRIPTION:Acción enmarcada en el Programa de Capacitación de Agentes del Ecosistema de Emprendimiento de la Comunitat Valenciana
LOCATION:
URL:https://ceeielche.emprenemjunts.es/?op=14&n=24868
END:VEVENT
END:VCALENDAR
