BEGIN:VCALENDAR
VERSION:2.0
PRODID:-//CEEI Elche//EmprenemJunts//ES
BEGIN:VEVENT
UID:Evento_24408
DTSTAMP:20250210T143925Z
DTSTART:20250320T090000Z
DTEND:20250320T110000Z
SUMMARY:Cómo salir en prensa (y no arruinarte en el intento)
DESCRIPTION:Jornada presencial gratuita enmarcada en el programa Joven Empresa Innovadora de Diputación de Alicante
LOCATION:Elx/Elche (Alicante)
URL:https://ceeielche.emprenemjunts.es/?op=14&n=24408
GEO:38.281338;-0.724342
END:VEVENT
END:VCALENDAR
