BEGIN:VCALENDAR
VERSION:2.0
PRODID:-//CEEI Elche//EmprenemJunts//ES
BEGIN:VEVENT
UID:Evento_24332
DTSTAMP:20250124T072550Z
DTSTART:20250219T093000Z
DTEND:20250219T113000Z
SUMMARY:Taller de empatía y gestión de equipos
DESCRIPTION:Jornada presencial gratuita enmarcada en el programa Joven Empresa Innovadora de Diputación de Alicante
LOCATION:Elx/Elche (Alicante)
URL:https://ceeielche.emprenemjunts.es/?op=14&n=24332
GEO:38.281338;-0.724342
END:VEVENT
END:VCALENDAR
