BEGIN:VCALENDAR
VERSION:2.0
PRODID:-//CEEI Castell髇//EmprenemJunts//ES
BEGIN:VEVENT
UID:Evento_24265
DTSTAMP:20241210T091059Z
DTSTART:20241218T090000Z
DTEND:20241218T100000Z
SUMMARY:Networking CafeCEEI_ Diciembre
DESCRIPTION:Desayuno navide帽o organizado por CEEI Castell贸n en el que colabora el Ayuntamiento de Castell贸n.
LOCATION:Castell贸 de la Plana/Castell贸n de la Plana (Castell贸n)
URL:https://ceeicastellon.emprenemjunts.es/?op=14&n=24265
END:VEVENT
END:VCALENDAR
