BEGIN:VCALENDAR
VERSION:2.0
PRODID:-//CEEI Valencia//EmprenemJunts//ES
BEGIN:VEVENT
UID:Evento_23425
DTSTAMP:20240520T130701Z
DTSTART:20241024T070000Z
DTEND:20241024T130000Z
SUMMARY:15 aniversario de excentia ¡Ven a celebrarlo con nosotros!
DESCRIPTION:El 24 de octubre celebraremos en el Edificio Veles e Vents de Valencia nuestro aniversario
LOCATION:Valencia (Valencia)
URL:https://ceeivalencia.emprenemjunts.es/?op=14&n=23425
GEO:39.461288;-0.323815
END:VEVENT
END:VCALENDAR
