BEGIN:VCALENDAR
VERSION:2.0
PRODID:-//CEEI Valencia//EmprenemJunts//ES
BEGIN:VEVENT
UID:Evento_23390
DTSTAMP:20240509T092243Z
DTSTART:20240611T110000Z
DTEND:20240611T120000Z
SUMMARY:Video del webinar \"Las 3 mejores prácticas para reducir costes e impulsar el desarrollo del software\"
DESCRIPTION:Aquí te dejamos el video de este webinar que realizamos junto a Sonar
LOCATION:Valencia (Valencia)
URL:https://ceeivalencia.emprenemjunts.es/?op=14&n=23390
END:VEVENT
END:VCALENDAR
