BEGIN:VCALENDAR
VERSION:2.0
PRODID:-//CEEI Elche//EmprenemJunts//ES
BEGIN:VEVENT
UID:Evento_23342
DTSTAMP:20240425T121746Z
DTSTART:20240508T100000Z
DTEND:20240508T120000Z
SUMMARY:Conferencia, acto de clausura BIKREANDO 2024 y entrega de reconocimientos
DESCRIPTION:
LOCATION:Elx/Elche (Alicante)
URL:https://ceeielche.emprenemjunts.es/?op=14&n=23342
GEO:38.263744;-0.695678
END:VEVENT
END:VCALENDAR
