BEGIN:VCALENDAR
VERSION:2.0
PRODID:-//CEEI Valencia//EmprenemJunts//ES
BEGIN:VEVENT
UID:Evento_22800
DTSTAMP:20231215T095136Z
DTSTART:20231219T093000Z
DTEND:20231219T114500Z
SUMMARY:Innovación en biotecnología: Retos y oportunidades
DESCRIPTION:
LOCATION:Paterna (Valencia)
URL:https://ceeivalencia.emprenemjunts.es/?op=14&n=22800
GEO:39.515850;-0.422387
END:VEVENT
END:VCALENDAR
