BEGIN:VCALENDAR
VERSION:2.0
PRODID:-//CEEI Valencia//EmprenemJunts//ES
BEGIN:VEVENT
UID:Evento_22347
DTSTAMP:20230920T105030Z
DTSTART:20230928T150000Z
DTEND:20230928T154000Z
SUMMARY:Fontanería del software: Utilizando cañerías para evitar la fuga
DESCRIPTION:excentia ofrece una conferencia online en el VLC Testing sobre cómo mejorar la calidad del código con SonarQube
LOCATION:Valencia (Valencia)
URL:https://ceeivalencia.emprenemjunts.es/?op=14&n=22347
GEO:39.447361;-0.392599
END:VEVENT
END:VCALENDAR
