BEGIN:VCALENDAR
VERSION:2.0
PRODID:-//CEEI Valencia//EmprenemJunts//ES
BEGIN:VEVENT
UID:Evento_22162
DTSTAMP:20230713T073554Z
DTSTART:20240129T130000Z
DTEND:20240201T150000Z
SUMMARY:Curso SonarQube para usuarios 2024
DESCRIPTION:Excentia abre inscripciones para este curso online para los meses de enero, febrero, agosto y septiembre
LOCATION:
URL:https://ceeivalencia.emprenemjunts.es/?op=14&n=22162
END:VEVENT
END:VCALENDAR
