BEGIN:VCALENDAR
VERSION:2.0
PRODID:-//CEEI Elche//EmprenemJunts//ES
BEGIN:VEVENT
UID:Evento_21713
DTSTAMP:20230405T102736Z
DTSTART:20230511T100000Z
DTEND:20230511T113000Z
SUMMARY:Mesa redonda y Conferencia- Auditorio
DESCRIPTION:
LOCATION:Elx/Elche (Alicante)
URL:https://ceeielche.emprenemjunts.es/?op=14&n=21713
GEO:38.263744;-0.695678
END:VEVENT
END:VCALENDAR
