BEGIN:VCALENDAR
VERSION:2.0
PRODID:-//CEEI Castellón//EmprenemJunts//ES
BEGIN:VEVENT
UID:Evento_19560
DTSTAMP:20211109T150500Z
DTSTART:20211202T090000Z
DTEND:20211202T123000Z
SUMMARY:Emprende-Innova-Comparte Comunitat Valenciana
DESCRIPTION:Concurso autonÃ³mico online de emprendimiento juvenil
LOCATION:
URL:https://ceeicastellon.emprenemjunts.es/?op=14&n=19560
END:VEVENT
END:VCALENDAR
