BEGIN:VCALENDAR
VERSION:2.0
PRODID:-//CEEI Castellón//EmprenemJunts//ES
BEGIN:VEVENT
UID:Evento_19425
DTSTAMP:20211022T124142Z
DTSTART:20211117T113000Z
DTEND:20211117T123000Z
SUMMARY:SMART Companies & SMART Working: \"CÃ³mo escalar tu compaÃ±Ã­a a travÃ©s de los datos\"
DESCRIPTION:evento hÃ­brido on line + presencial
LOCATION:CastellÃ³ de la Plana/CastellÃ³n de la Plana (CastellÃ³n)
URL:https://ceeicastellon.emprenemjunts.es/?op=14&n=19425
END:VEVENT
END:VCALENDAR
