BEGIN:VCALENDAR
VERSION:2.0
PRODID:-//CEEI Elche//EmprenemJunts//ES
BEGIN:VEVENT
UID:Evento_18361
DTSTAMP:20210309T124605Z
DTSTART:20210315T160000Z
DTEND:20210315T170000Z
SUMMARY:La Gestión del Talento en la Transformación Sostenible de las Empresas
DESCRIPTION:
LOCATION:
URL:https://ceeielche.emprenemjunts.es/?op=14&n=18361
END:VEVENT
END:VCALENDAR
