BEGIN:VCALENDAR
VERSION:2.0
PRODID:-//CEEI Alcoy//EmprenemJunts//ES
BEGIN:VEVENT
UID:Evento_18153
DTSTAMP:20210205T122747Z
DTSTART:20210210T180100Z
DTEND:20210210T184500Z
SUMMARY:Desde la idea a la pieza final con BigRep
DESCRIPTION:Todo el proceso industrial  para obtener por impresion3d un producto final
LOCATION:Oliva (Valencia)
URL:https://ceeialcoi.emprenemjunts.es/?op=14&n=18153
END:VEVENT
END:VCALENDAR
