BEGIN:VCALENDAR
VERSION:2.0
PRODID:-//CEEI Alcoy//EmprenemJunts//ES
BEGIN:VEVENT
UID:Evento_18079
DTSTAMP:20210121T110447Z
DTSTART:20210125T150000Z
DTEND:20210125T170000Z
SUMMARY:Formación Online en Software BLADE para impresoras 3d
DESCRIPTION:Training ( en inglés )
LOCATION:
URL:https://ceeialcoi.emprenemjunts.es/?op=14&n=18079
END:VEVENT
END:VCALENDAR
