BEGIN:VCALENDAR
VERSION:2.0
PRODID:-//CEEI Elche//EmprenemJunts//ES
BEGIN:VEVENT
UID:Evento_173
DTSTAMP:20081023T160000Z
DTSTART:20081023T160000Z
DTEND:20081023T190000Z
SUMMARY:Jornadas de Innovación 2008
DESCRIPTION:
LOCATION:Elche
URL:https://ceeielche.emprenemjunts.es/?op=14&n=173
END:VEVENT
END:VCALENDAR
