BEGIN:VCALENDAR
VERSION:2.0
PRODID:-//Páginas naranja//EmprenemJunts//ES
BEGIN:VEVENT
UID:Evento_16710
DTSTAMP:20200323T152358Z
DTSTART:20200325T090000Z
DTEND:20200325T100000Z
SUMMARY:&#10084;&#65039;WeAreOne - Sesiones Semanales&#10084;&#65039;
DESCRIPTION:Sesiones semanales cada miÃ©rcoles de 10:00 a 11:00 CET
LOCATION:
URL:https://paginasnaranja.emprenemjunts.es/?op=14&n=16710
END:VEVENT
END:VCALENDAR
