BEGIN:VCALENDAR
VERSION:2.0
PRODID:-//CEEI Valencia//EmprenemJunts//ES
BEGIN:VEVENT
UID:Evento_16557
DTSTAMP:20200224T093424Z
DTSTART:20200312T083000Z
DTEND:20200312T130000Z
SUMMARY:Triumphing in 2020 with Proven Strategies for Life & Work Success
DESCRIPTION:Bermeo3 - Exceptional programs in personal and professional development for creating truly excellent leaders and teams.
LOCATION:L\'Eliana (Valencia)
URL:https://ceeivalencia.emprenemjunts.es/?op=14&n=16557
GEO:39.553082;-0.517125
END:VEVENT
END:VCALENDAR
