BEGIN:VCALENDAR
VERSION:2.0
PRODID:-//CEEI Valencia//EmprenemJunts//ES
BEGIN:VEVENT
UID:Evento_16221
DTSTAMP:20191125T160117Z
DTSTART:20191129T083000Z
DTEND:20191129T133000Z
SUMMARY:I Foro Innotransfer - Biotecnología
DESCRIPTION:Soluciones generadas en las universidad públicas valencianas para empresas innovadoras
LOCATION:Paterna (Valencia)
URL:https://ceeivalencia.emprenemjunts.es/?op=14&n=16221
GEO:39.515778;-0.424758
END:VEVENT
END:VCALENDAR
