BEGIN:VCALENDAR
VERSION:2.0
PRODID:-//CEEI Castell髇//EmprenemJunts//ES
BEGIN:VEVENT
UID:Evento_15127
DTSTAMP:20190409T153938Z
DTSTART:20190410T163000Z
DTEND:20190410T193000Z
SUMMARY:Doublethink Lab 3 路 La brecha digital en las PYMES
DESCRIPTION:Doublethink Lab 3 路 La brecha digital en las PYMES
LOCATION:Castell贸 de la Plana/Castell贸n de la Plana (Castell贸n)
URL:https://ceeicastellon.emprenemjunts.es/?op=14&n=15127
GEO:-0.024387;39.983097
END:VEVENT
END:VCALENDAR
