BEGIN:VCALENDAR
VERSION:2.0
PRODID:-//CEEI Valencia//EmprenemJunts//ES
BEGIN:VEVENT
UID:Evento_15120
DTSTAMP:20190408T145903Z
DTSTART:20190509T160000Z
DTEND:20190509T180000Z
SUMMARY:COMO CONSEGUIR UN PERRO EQUILIBRADO Y FELIZ
DESCRIPTION:
LOCATION:Alzira (Valencia)
URL:https://ceeivalencia.emprenemjunts.es/?op=14&n=15120
GEO:39.150600;-0.441136
END:VEVENT
END:VCALENDAR
