BEGIN:VCALENDAR
VERSION:2.0
PRODID:-//CEEI Valencia//EmprenemJunts//ES
BEGIN:VEVENT
UID:Evento_14138
DTSTAMP:20181010T170930Z
DTSTART:20181016T170000Z
DTEND:20181016T183000Z
SUMMARY:Auditorías SEO #TallerSEO (gratuito)
DESCRIPTION:Auditoría SEO de varias webs, de la mano de profesionales SEO
LOCATION:Valencia (Valencia)
URL:https://ceeivalencia.emprenemjunts.es/?op=14&n=14138
GEO:39.469372;-0.372766
END:VEVENT
END:VCALENDAR
