BEGIN:VCALENDAR
VERSION:2.0
PRODID:-//Management//EmprenemJunts//ES
BEGIN:VEVENT
UID:Evento_13033
DTSTAMP:20180111T101133Z
DTSTART:20180322T080000Z
DTEND:20180421T220000Z
SUMMARY:NORMATIVA DE CALIDAD ALIMENTARIA BRC V5
DESCRIPTION:Trabajadores del sector agrario y personas en situación de desempleo de la Comunidad Valenciana
LOCATION:
URL:https://management.emprenemjunts.es/?op=14&n=13033
END:VEVENT
END:VCALENDAR
