BEGIN:VCALENDAR
VERSION:2.0
PRODID:-//CEEI Alcoy//EmprenemJunts//ES
BEGIN:VEVENT
UID:Evento_13008
DTSTAMP:20180110T120411Z
DTSTART:20180307T080000Z
DTEND:20180307T173000Z
SUMMARY:I Congreso de Ingenieros profesionales en la industria 4.0
DESCRIPTION:Hacia un modelo energético sostenible
LOCATION:Alcoi/Alcoy (Alicante)
URL:https://ceeialcoi.emprenemjunts.es/?op=14&n=13008
GEO:38.694790;-0.475647
END:VEVENT
END:VCALENDAR
