BEGIN:VCALENDAR
VERSION:2.0
PRODID:-//CEEI Valencia//EmprenemJunts//ES
BEGIN:VEVENT
UID:Evento_12700
DTSTAMP:20171012T093858Z
DTSTART:20171026T160000Z
DTEND:20171109T170000Z
SUMMARY:Taller \"Cogiendo tu ESTRÉS por los cuernos\"
DESCRIPTION:Recupera tu PODER PERSONAL
LOCATION:Valencia (Valencia)
URL:https://ceeivalencia.emprenemjunts.es/?op=14&n=12700
GEO:39.476006;-0.370952
END:VEVENT
END:VCALENDAR
