BEGIN:VCALENDAR
VERSION:2.0
PRODID:-//CEEI Valencia//EmprenemJunts//ES
BEGIN:VEVENT
UID:Evento_12647
DTSTAMP:20171003T115924Z
DTSTART:20171115T083000Z
DTEND:20171122T123000Z
SUMMARY:Taller Cómo elaborar un plan estratégico de marketing digital con coherencia
DESCRIPTION:#Formación de 8 horas con Loles Sancho sobre Marketing Digital en CEEI Valencia
LOCATION:Paterna (Valencia)
URL:https://ceeivalencia.emprenemjunts.es/?op=14&n=12647
GEO:39.548115;-0.460775
END:VEVENT
END:VCALENDAR
